Workbook

Sheet สขร.1 
A1: แบบสรุปผลการดำเนินการจัดซื้อจัดจ้างในรอบเดือน กันยายน พ.ศ. 2569
A2: เทศบาลตำบลทุ่งหว้า
A3: วันที่ 30 เดือน กันยายน พ.ศ. 2569
A4: ลำดับที่ | B4: งานที่จัดซื้อจัดจ้าง | C4: วงเงินที่จะซื้อจะจ้าง | D4: ราคากลาง | E4: วิธีซื้อหรือจ้าง | F4: รายชื่อผู้เสนอราคา | G4: ราคาที่เสนอ | H4: ผู้ได้รับการคัดเลือก | I4: ราคาที่ตกลงซื้อหรือจ้าง | J4: เหตุผลที่คัดเลือกโดยสรุป | K4: เลขที่และวันที่ของสัญญาหรือข้อตกลงในการซื้อหรือจ้าง
A6: 1 | B6: =[1]ใบสั่งซื้อ!D65 -> ซื้อวัสดุไฟฟ้าและวิทยุ จำนวน 7 รายการ | C6: 40616 | D6: 39380 | E6: เฉพาะเจาะจง | F6: =[1]ใบสั่งซื้อ!F65 -> บริษัท วุฒิชัยการไฟฟ้า จำกัด | G6: 39380 | H6: =[1]ใบสั่งซื้อ!F65 -> บริษัท วุฒิชัยการไฟฟ้า จำกัด | I6: 39380 | J6: คุณสมบัติครบถ้วน | K6: =[1]ใบสั่งซื้อ!C65 -> 244595 | L6: 63/2569
A7: 2 | B7: =[1]ใบสั่งซื้อ!D66 -> ซื้อวัสดุสำนักงาน (กองคลัง) จำนวน 12 รายการ | C7: 4000 | D7: 3563 | E7: เฉพาะเจาะจง | F7: =[1]ใบสั่งซื้อ!F66 -> ร้านโชติภัณฑ์ | G7: 3563 | H7: =[1]ใบสั่งซื้อ!F66 -> ร้านโชติภัณฑ์ | I7: 3563 | J7: คุณสมบัติครบถ้วน | K7: =[1]ใบสั่งซื้อ!C66 -> 244601 | L7: 64/2569
A8: 3 | B8: =[1]ใบสั่งซื้อ!D67 -> ซื้อวัสดุคอมพิวเตอร์ (กองช่าง) จำนวน 9 รายการ | C8: 8190 | D8: 8190 | E8: เฉพาะเจาะจง | F8: =[1]ใบสั่งซื้อ!F67 -> ร้านแนคอมพิวเตอร์ | G8: 8190 | H8: =[1]ใบสั่งซื้อ!F67 -> ร้านแนคอมพิวเตอร์ | I8: 8190 | J8: คุณสมบัติครบถ้วน | K8: =[1]ใบสั่งซื้อ!C67 -> 244602 | L8: 65/2569
A9: 4 | B9: =[1]ใบสั่งซื้อ!D68 -> ซื้อวัสดุก่อสร้าง จำนวน 13 รายการ | C9: 2000 | D9: 1651 | E9: เฉพาะเจาะจง | F9: =[1]ใบสั่งซื้อ!F68 -> ร้านทุ่งหว้าสหภัณฑ์ | G9: 1651 | H9: =[1]ใบสั่งซื้อ!F68 -> ร้านทุ่งหว้าสหภัณฑ์ | I9: 1651 | J9: คุณสมบัติครบถ้วน | K9: =[1]ใบสั่งซื้อ!C68 -> 244602 | L9: 66/2569
A10: 5 | B10: =[1]ใบสั่งซื้อ!D69 -> ซื้อวัสดุสำนักงาน (สำนักปลัด) จำนวน 37 รายการ | C10: 31745 | D10: 31745 | E10: เฉพาะเจาะจง | F10: =[1]ใบสั่งซื้อ!F69 -> ร้านโชติภัณฑ์ | G10: 31745 | H10: =[1]ใบสั่งซื้อ!F69 -> ร้านโชติภัณฑ์ | I10: 31745 | J10: คุณสมบัติครบถ้วน | K10: =[1]ใบสั่งซื้อ!C69 -> 244608 | L10: 67/2569
A11: 6 | B11: =[1]ใบสั่งซื้อ!D70 -> ซื้อวัสดุคอมพิวเตอร์ จำนวน 1 รายการ | C11: 4200 | D11: 4200 | E11: เฉพาะเจาะจง | F11: =[1]ใบสั่งซื้อ!F70 -> ร้านแนคอมพิวเตอร์ | G11: 4200 | H11: =[1]ใบสั่งซื้อ!F70 -> ร้านแนคอมพิวเตอร์ | I11: 4200 | J11: คุณสมบัติครบถ้วน | K11: =[1]ใบสั่งซื้อ!C70 -> 244608 | L11: 68/2569
A12: 7 | B12: =[1]ใบสั่งซื้อ!D71 -> ซื้อวัสดุการเกษตร จำนวน 6 รายการ | C12: 5000 | D12: 4690 | E12: เฉพาะเจาะจง | F12: =[1]ใบสั่งซื้อ!F71 -> นางอุไรวรรณ เทพพิชัย | G12: 4690 | H12: =[1]ใบสั่งซื้อ!F71 -> นางอุไรวรรณ เทพพิชัย | I12: 4690 | J12: คุณสมบัติครบถ้วน | K12: =[1]ใบสั่งซื้อ!C71 -> 244609 | L12: 69/2569
A13: 8 | B13: =[1]ใบสั่งซื้อ!D72 -> ซื้อวัสดุสำนักงาน (กองช่าง) จำนวน 7 รายการ | C13: 5500 | D13: 5215 | E13: เฉพาะเจาะจง | F13: =[1]ใบสั่งซื้อ!F72 -> ร้านโชติภัณฑ์ | G13: 5215 | H13: =[1]ใบสั่งซื้อ!F72 -> ร้านโชติภัณฑ์ | I13: 5215 | J13: คุณสมบัติครบถ้วน | K13: =[1]ใบสั่งซื้อ!C72 -> 244609 | L13: 70/2569
A14: 9 | B14: =[1]ใบสั่งซื้อ!D73 -> ซื้อวัสดุเครื่องแต่งกายชุดอาสาสมัครป้องกันภัยฝ่ายพลเรือน (อปพร.) จำนวน 2 รายการ | C14: 100000 | D14: 92400 | E14: เฉพาะเจาะจง | F14: =[1]ใบสั่งซื้อ!F73 -> ห้างหุ้นส่วนจำกัด ลายพราง พัทลุง | G14: 92400 | H14: =[1]ใบสั่งซื้อ!F73 -> ห้างหุ้นส่วนจำกัด ลายพราง พัทลุง | I14: 92400 | J14: คุณสมบัติครบถ้วน | K14: =[1]ใบสั่งซื้อ!C73 -> 244609 | L14: 71/2569
A15: 10 | B15: =[1]ใบสั่งซื้อ!D74 -> ซื้อวัสดุเครื่องดับเพลิง จำนวน 5 รายการ | C15: 90000 | D15: 89600 | E15: เฉพาะเจาะจง | F15: =[1]ใบสั่งซื้อ!F74 -> ร้านกนกวรรณครุภัณฑ์ | G15: 89600 | H15: =[1]ใบสั่งซื้อ!F74 -> ร้านกนกวรรณครุภัณฑ์ | I15: 89600 | J15: คุณสมบัติครบถ้วน | K15: =[1]ใบสั่งซื้อ!C74 -> 244610 | L15: 72/2569
A16: 11 | B16: =[1]ใบสั่งซื้อ!D75 -> ซื้อวัสดุเครื่องแต่งกาย จำนวน 3 รายการ | C16: 28900 | D16: 28900 | E16: เฉพาะเจาะจง | F16: =[1]ใบสั่งซื้อ!F75 -> ร้านกนกวรรณครุภัณฑ์ | G16: 28900 | H16: =[1]ใบสั่งซื้อ!F75 -> ร้านกนกวรรณครุภัณฑ์ | I16: 28900 | J16: คุณสมบัติครบถ้วน | K16: =[1]ใบสั่งซื้อ!C75 -> 244610 | L16: 73/2569
A17: 12 | B17: =[1]ใบสั่งจ้าง!D54 -> จ้างเหมาซ่อมแซมและบำรุงรักษาเครื่องตัดหญ้าแบบนั่งขับ รหัสครุภัณฑ์ 441-68-0001 จำนวน 3 รายการ | C17: 2000 | D17: 1220 | E17: เฉพาะเจาะจง | F17: =[1]ใบสั่งจ้าง!F54 -> ร้านภาวดีเจริญการช่าง | G17: 1220 | H17: =[1]ใบสั่งจ้าง!F54 -> ร้านภาวดีเจริญการช่าง | I17: 1220 | J17: คุณสมบัติครบถ้วน | K17: =[1]ใบสั่งจ้าง!C54 -> 244595 | L17: 52/2569
A18: 13 | B18: จ้างเหมาซ่อมแซมรถจักรยานยนต์ หมายเลขทะเบียน กตค 173 สตูล จำนวน 9 รายการ | C18: 2490 | D18: 2490 | E18: เฉพาะเจาะจง | F18: นายสำเริง ด้วงแก้ว | G18: 2490 | H18: นายสำเริง ด้วงแก้ว | I18: 2490 | J18: คุณสมบัติครบถ้วน | K18: 244601 | L18: 53/2569
A19: 14 | B19: =[1]ใบสั่งจ้าง!D56 -> จ้างเหมาซ่อมแซมและบำรุงรักษาเครื่องคอมพิวเตอร์ (กองช่าง) จำนวน 2 รายการ | C19: 9800 | D19: 9800 | E19: เฉพาะเจาะจง | F19: =[1]ใบสั่งจ้าง!F56 -> ร้านแนคอมพิวเตอร์ | G19: 9800 | H19: =[1]ใบสั่งจ้าง!F56 -> ร้านแนคอมพิวเตอร์ | I19: 9800 | J19: คุณสมบัติครบถ้วน | K19: =[1]ใบสั่งจ้าง!C56 -> 244602 | L19: 53/2569
A20: 15 | B20: =[1]ใบสั่งจ้าง!D57 -> จ้างเหมาปรับปรุงระบบสารสนเทศภูมิศาสตร์งานแผนที่ภาษีและทรัพย์สิน | C20: 60000 | D20: 60000 | E20: เฉพาะเจาะจง | F20: =[1]ใบสั่งจ้าง!F57 -> ภณ โลคอลซอฟท์ | G20: 60000 | H20: =[1]ใบสั่งจ้าง!F57 -> ภณ โลคอลซอฟท์ | I20: 60000 | J20: คุณสมบัติครบถ้วน | K20: =[1]ใบสั่งจ้าง!C57 -> 244608 | L20: 54/2569
